BEGIN:VCALENDAR
VERSION:2.0
PRODID:-//hacksw/handcal//NONSGML v1.0//EN
BEGIN:VEVENT
SUMMARY:Match U15M-1
UID:b844c339-d53f-4d53-90f2-c064af3093e5
DTSTART:20260418T120000Z
DTEND:20260418T140000Z
LOCATION:Localisation   
CATEGORIES:Sportif
STATUS:
URL;VALUE=URI:https://www.coulommiers-brie-basket.com/evenements/2026/04/18/match-u15m-1-2444636
END:VEVENT
END:VCALENDAR
