BEGIN:VCALENDAR
VERSION:2.0
PRODID:-//hacksw/handcal//NONSGML v1.0//EN
BEGIN:VEVENT
SUMMARY:Match U13F
UID:37fd5fc4-e74a-44ba-98b0-d89302552820
DTSTART:20260418T120000Z
DTEND:20260418T140000Z
LOCATION:Localisation   
CATEGORIES:Sportif
STATUS:
URL;VALUE=URI:https://www.coulommiers-brie-basket.com/evenements/2026/04/18/match-u13f-2444638
END:VEVENT
END:VCALENDAR
