BEGIN:VCALENDAR
VERSION:2.0
PRODID:-//hacksw/handcal//NONSGML v1.0//EN
BEGIN:VEVENT
SUMMARY:Match U11M-1
UID:85cd1ace-5c47-4428-8e90-64a2021ff370
DTSTART:20260418T113000Z
DTEND:20260418T133000Z
LOCATION:Localisation   
CATEGORIES:Sportif
STATUS:
URL;VALUE=URI:https://www.coulommiers-brie-basket.com/evenements/2026/04/18/match-u11m-1-2444640
END:VEVENT
END:VCALENDAR
