BEGIN:VCALENDAR
VERSION:2.0
PRODID:-//hacksw/handcal//NONSGML v1.0//EN
BEGIN:VEVENT
SUMMARY:Match DM2
UID:b2a42870-97ff-4ec1-8aa4-d6a3cfeb2a38
DTSTART:20260412T113000Z
DTEND:20260412T133000Z
LOCATION:Localisation   
CATEGORIES:Sportif
STATUS:
URL;VALUE=URI:https://www.coulommiers-brie-basket.com/evenements/2026/04/12/match-dm2-2444622
END:VEVENT
END:VCALENDAR
