BEGIN:VCALENDAR
VERSION:2.0
PRODID:-//hacksw/handcal//NONSGML v1.0//EN
BEGIN:VEVENT
SUMMARY:Match U15M-2
UID:3c7bf956-1af0-44ee-b9db-af07de194f8e
DTSTART:20260411T163000Z
DTEND:20260411T183000Z
LOCATION:Localisation   
CATEGORIES:Sportif
STATUS:
URL;VALUE=URI:https://www.coulommiers-brie-basket.com/evenements/2026/04/11/match-u15m-2-2444617
END:VEVENT
END:VCALENDAR
