BEGIN:VCALENDAR
VERSION:2.0
PRODID:-//hacksw/handcal//NONSGML v1.0//EN
BEGIN:VEVENT
SUMMARY:Match U15M-1
UID:6704f8c1-3e30-4839-839d-c1c15558b2cc
DTSTART:20260411T113000Z
DTEND:20260411T133000Z
LOCATION:Localisation   
CATEGORIES:Sportif
STATUS:
URL;VALUE=URI:https://www.coulommiers-brie-basket.com/evenements/2026/04/11/match-u15m-1-2444613
END:VEVENT
END:VCALENDAR
