BEGIN:VCALENDAR
VERSION:2.0
PRODID:-//hacksw/handcal//NONSGML v1.0//EN
BEGIN:VEVENT
SUMMARY:Match U11M-2
UID:617651ad-24cd-4c4d-a22c-734ede23be72
DTSTART:20260411T113000Z
DTEND:20260411T133000Z
LOCATION:Localisation   
CATEGORIES:Sportif
STATUS:
URL;VALUE=URI:https://www.coulommiers-brie-basket.com/evenements/2026/04/11/match-u11m-2-2444615
END:VEVENT
END:VCALENDAR
