BEGIN:VCALENDAR
VERSION:2.0
PRODID:-//hacksw/handcal//NONSGML v1.0//EN
BEGIN:VEVENT
SUMMARY:Match U11M-1
UID:c365b9c1-f439-4978-8a94-ebdb55325276
DTSTART:20260411T154500Z
DTEND:20260411T174500Z
LOCATION:Localisation   
CATEGORIES:Sportif
STATUS:
URL;VALUE=URI:https://www.coulommiers-brie-basket.com/evenements/2026/04/11/match-u11m-1-2444625
END:VEVENT
END:VCALENDAR
